View In:
ArcGIS JavaScript
ArcGIS Online map viewer
Google Earth
ArcMap
View Footprint In:
ArcGIS Online map viewer
Service Description: DeKalb County aerial imagery. Captured by Eagleview (Pictometry) in early 2020.
Name: Imagery2020
Description: DeKalb County aerial imagery. Captured by Eagleview (Pictometry) in early 2020.
Single Fused Map Cache: false
Extent:
XMin: -9390094.1511
YMin: 3976258.5135999992
XMax: -9353032.4011
YMax: 4024976.0135999992
Spatial Reference: 102100
(3857)
Initial Extent:
XMin: -9390094.1511
YMin: 3976258.5135999992
XMax: -9353032.4011
YMax: 4024976.0135999992
Spatial Reference: 102100
(3857)
Full Extent:
XMin: -9390094.1511
YMin: 3976258.5135999992
XMax: -9353032.4011
YMax: 4024976.0135999992
Spatial Reference: 102100
(3857)
Pixel Size X: 0.25
Pixel Size Y: 0.25
Band Count: 3
Pixel Type: U8
RasterFunction Infos: {"name":"None","description":"","help":""}
Mensuration Capabilities: Basic
Has Histograms: true
Has Colormap: false
Has Multi Dimensions : false
Rendering Rule:
Min Scale: 0
Max Scale: 0
Copyright Text:
Service Data Type: esriImageServiceDataTypeRGB
Min Values: 0, 0, 0
Max Values: 255, 255, 255
Mean Values: 116.15829470339756, 109.39794485536513, 99.78367936175607
Standard Deviation Values: 42.87794368925949, 38.46798385461355, 32.26722538421082
Object ID Field: OBJECTID
Fields:
-
OBJECTID
(
type: esriFieldTypeOID
, alias: OBJECTID
)
-
Name
(
type: esriFieldTypeString
, alias: Name
, length: 200
)
-
MinPS
(
type: esriFieldTypeDouble
, alias: MinPS
)
-
MaxPS
(
type: esriFieldTypeDouble
, alias: MaxPS
)
-
LowPS
(
type: esriFieldTypeDouble
, alias: LowPS
)
-
HighPS
(
type: esriFieldTypeDouble
, alias: HighPS
)
-
Category
(
type: esriFieldTypeInteger
, alias: Category
, Coded Values:
[0: Unknown]
, [1: Primary]
, [2: Overview]
, ...6 more...
)
-
Tag
(
type: esriFieldTypeString
, alias: Tag
, length: 100
)
-
GroupName
(
type: esriFieldTypeString
, alias: GroupName
, length: 100
)
-
ProductName
(
type: esriFieldTypeString
, alias: ProductName
, length: 100
)
-
CenterX
(
type: esriFieldTypeDouble
, alias: CenterX
)
-
CenterY
(
type: esriFieldTypeDouble
, alias: CenterY
)
-
ZOrder
(
type: esriFieldTypeInteger
, alias: ZOrder
)
-
Shape
(
type: esriFieldTypeGeometry
, alias: Shape
)
-
Shape.STArea()
(
type: esriFieldTypeDouble
, alias: Shape.STArea()
)
-
Shape.STLength()
(
type: esriFieldTypeDouble
, alias: Shape.STLength()
)
Default Mosaic Method: Northwest
Allowed Mosaic Methods: NorthWest,Center,LockRaster,ByAttribute,Nadir,Viewpoint,Seamline,None
SortField:
SortValue: null
Mosaic Operator: First
Default Compression Quality: 75
Default Resampling Method: Bilinear
Max Record Count: 1000
Max Image Height: 4100
Max Image Width: 15000
Max Download Image Count: 20
Max Mosaic Image Count: 20
Allow Raster Function: true
Allow Compute TiePoints: false
Supports Statistics: true
Supports Advanced Queries: true
Use StandardizedQueries: true
Raster Type Infos:
Name: Raster Dataset
Description: Supports all ArcGIS Raster Datasets
Help:
Has Raster Attribute Table: false
Edit Fields Info: null
Ownership Based AccessControl For Rasters: null
Child Resources:
Info
Histograms
Key Properties
Legend
MultiDimensionalInfo
rasterFunctionInfos
Supported Operations:
Export Image
Query
Identify
Measure
Compute Histograms
Compute Statistics Histograms
Get Samples
Compute Class Statistics